Workbook

Sheet Mileage log
A1: Real Estate Mileage Log 2026
A2: Name | D2: Vehicle
A3: Odometer Jan 1 | D3: Odometer Dec 31 | G3: Total miles | H3: =IF(AND(ISNUMBER(B3),ISNUMBER(E3),E3>B3),E3-B3,"")
A4: Date placed in service for business | F4: Yellow cells are for you to fill in. Miles fill in from the odometer columns; you can also type miles directly.
A6: Date | B6: Start | C6: Property address / destination | D6: Client or MLS # | E6: Purpose | F6: Odometer start | G6: Odometer end | H6: Miles | I6: Rate | J6: Amount | K6: Parking & tolls
H7: =IF(AND(ISNUMBER(F7),ISNUMBER(G7),G7>F7),G7-F7,"") | I7: =IF(OR(A7="",H7=""),"",IF(OR(E7="Personal"),0,IF(A7>=DATE(2026,7,1),0.76,0.725))) | J7: =IF(OR(H7="",I7=""),"",ROUND(H7*I7,2))
H8: =IF(AND(ISNUMBER(F8),ISNUMBER(G8),G8>F8),G8-F8,"") | I8: =IF(OR(A8="",H8=""),"",IF(OR(E8="Personal"),0,IF(A8>=DATE(2026,7,1),0.76,0.725))) | J8: =IF(OR(H8="",I8=""),"",ROUND(H8*I8,2))
H9: =IF(AND(ISNUMBER(F9),ISNUMBER(G9),G9>F9),G9-F9,"") | I9: =IF(OR(A9="",H9=""),"",IF(OR(E9="Personal"),0,IF(A9>=DATE(2026,7,1),0.76,0.725))) | J9: =IF(OR(H9="",I9=""),"",ROUND(H9*I9,2))
H10: =IF(AND(ISNUMBER(F10),ISNUMBER(G10),G10>F10),G10-F10,"") | I10: =IF(OR(A10="",H10=""),"",IF(OR(E10="Personal"),0,IF(A10>=DATE(2026,7,1),0.76,0.725))) | J10: =IF(OR(H10="",I10=""),"",ROUND(H10*I10,2))
H11: =IF(AND(ISNUMBER(F11),ISNUMBER(G11),G11>F11),G11-F11,"") | I11: =IF(OR(A11="",H11=""),"",IF(OR(E11="Personal"),0,IF(A11>=DATE(2026,7,1),0.76,0.725))) | J11: =IF(OR(H11="",I11=""),"",ROUND(H11*I11,2))
H12: =IF(AND(ISNUMBER(F12),ISNUMBER(G12),G12>F12),G12-F12,"") | I12: =IF(OR(A12="",H12=""),"",IF(OR(E12="Personal"),0,IF(A12>=DATE(2026,7,1),0.76,0.725))) | J12: =IF(OR(H12="",I12=""),"",ROUND(H12*I12,2))
H13: =IF(AND(ISNUMBER(F13),ISNUMBER(G13),G13>F13),G13-F13,"") | I13: =IF(OR(A13="",H13=""),"",IF(OR(E13="Personal"),0,IF(A13>=DATE(2026,7,1),0.76,0.725))) | J13: =IF(OR(H13="",I13=""),"",ROUND(H13*I13,2))
H14: =IF(AND(ISNUMBER(F14),ISNUMBER(G14),G14>F14),G14-F14,"") | I14: =IF(OR(A14="",H14=""),"",IF(OR(E14="Personal"),0,IF(A14>=DATE(2026,7,1),0.76,0.725))) | J14: =IF(OR(H14="",I14=""),"",ROUND(H14*I14,2))
H15: =IF(AND(ISNUMBER(F15),ISNUMBER(G15),G15>F15),G15-F15,"") | I15: =IF(OR(A15="",H15=""),"",IF(OR(E15="Personal"),0,IF(A15>=DATE(2026,7,1),0.76,0.725))) | J15: =IF(OR(H15="",I15=""),"",ROUND(H15*I15,2))
H16: =IF(AND(ISNUMBER(F16),ISNUMBER(G16),G16>F16),G16-F16,"") | I16: =IF(OR(A16="",H16=""),"",IF(OR(E16="Personal"),0,IF(A16>=DATE(2026,7,1),0.76,0.725))) | J16: =IF(OR(H16="",I16=""),"",ROUND(H16*I16,2))
H17: =IF(AND(ISNUMBER(F17),ISNUMBER(G17),G17>F17),G17-F17,"") | I17: =IF(OR(A17="",H17=""),"",IF(OR(E17="Personal"),0,IF(A17>=DATE(2026,7,1),0.76,0.725))) | J17: =IF(OR(H17="",I17=""),"",ROUND(H17*I17,2))
H18: =IF(AND(ISNUMBER(F18),ISNUMBER(G18),G18>F18),G18-F18,"") | I18: =IF(OR(A18="",H18=""),"",IF(OR(E18="Personal"),0,IF(A18>=DATE(2026,7,1),0.76,0.725))) | J18: =IF(OR(H18="",I18=""),"",ROUND(H18*I18,2))
... H406: =IF(AND(ISNUMBER(F406),ISNUMBER(G406),G406>F406),G406-F406,"") | I406: =IF(OR(A406="",H406=""),"",IF(OR(E406="Personal"),0,IF(A406>=DATE(2026,7,1),0.76,0.725))) | J406: =IF(OR(H406="",I406=""),"",ROUND(H406*I406,2))

Sheet Summary
A1: Real Estate Mileage Log 2026: summary
A3: Business miles | B3: =SUMIFS('Mileage log'!$H$7:$H$406,'Mileage log'!$A$7:$A$406,"<>")-SUMIFS('Mileage log'!$H$7:$H$406,'Mileage log'!$E$7:$E$406,"Personal") | C3: Everything except Personal rows.
A4: of which before July 1, 2026 | B4: =SUMIFS('Mileage log'!$H$7:$H$406,'Mileage log'!$A$7:$A$406,"<>",'Mileage log'!$A$7:$A$406,"<"&DATE(2026,7,1))-SUMIFS('Mileage log'!$H$7:$H$406,'Mileage log'!$E$7:$E$406,"Personal",'Mileage log'!$A$7:$A$406,"<"&DATE(2026,7,1)) | C4: Rate 72.5 cents
A5: of which from July 1, 2026 | B5: =SUMIFS('Mileage log'!$H$7:$H$406,'Mileage log'!$A$7:$A$406,"<>",'Mileage log'!$A$7:$A$406,">="&DATE(2026,7,1))-SUMIFS('Mileage log'!$H$7:$H$406,'Mileage log'!$E$7:$E$406,"Personal",'Mileage log'!$A$7:$A$406,">="&DATE(2026,7,1)) | C5: Rate 76 cents
A6: Standard mileage amount | B6: =SUM('Mileage log'!$J$7:$J$406) | C6: Miles x the IRS rate for the date driven
A7: Business parking and tolls | B7: =SUM('Mileage log'!$K$7:$K$406) | C7: Deductible on top of the standard mileage rate
A8: Total miles driven (odometer) | B8: ='Mileage log'!H3 | C8: From the odometer readings at the top of the log
A9: Business-use percentage | B9: =IFERROR(B3/B8,"") | C9: Business miles / total miles
A11: Self-employed: report car expenses on Schedule C, line 9, and complete Part IV (business, commuting and other miles).

Sheet Example
A1: Date | B1: Start | C1: Property address / destination | D1: Client or MLS # | E1: Purpose | F1: Odometer start | G1: Odometer end | H1: Miles | I1: Rate | J1: Amount | K1: Parking & tolls
A2: 07/11/2026 | B2: Home office | C2: 123 Oak St | D2: Johnson / MLS 4471825 | E2: Showing | F2: 40112 | G2: 40120.6 | H2: 8.6 | I2: 0.76 | J2: 6.54
A3: 07/11/2026 | B3: 123 Oak St | C3: 47 Birch Ln | D3: Johnson / MLS 4470032 | E3: Showing | F3: 40120.6 | G3: 40124.5 | H3: 3.9 | I3: 0.76 | J3: 2.96
A4: 07/11/2026 | B4: 47 Birch Ln | C4: Hilltop Title Co. | D4: Ramirez | E4: Closing | F4: 40124.5 | G4: 40130.7 | H4: 6.2 | I4: 0.76 | J4: 4.71 | K4: 4
A6: Write a specific business purpose for each trip, not just "work".

Sheet Rates and sources
A1: Rates and rules used in this template
A2: Last checked against the official sources on October 7, 2026.
A4: 2026 business rate: 72.5 cents (Jan 1 - Jun 30), 76 cents (from Jul 1) | B4: https://www.irs.gov/tax-professionals/standard-mileage-rates
A5: 2026 medical/moving: 20.5 cents, then 23.5 cents from Jul 1; charity 14 cents | B5: https://www.irs.gov/irb/2026-29_irb
A6: Records to keep: date, destination, business purpose, miles; total miles for the year (Pub. 463, ch. 5) | B6: https://www.irs.gov/publications/p463
A7: A log kept weekly counts as a timely kept record (Pub. 463) | B7: https://www.irs.gov/publications/p463
A9: Made with MileageLogMaker.com. General information, not tax advice.
